BEGIN:VCALENDAR
VERSION:2.0
PRODID:-//wp-events-plugin.com//7.2.3.1//EN
TZID:Europe/Berlin
X-WR-TIMEZONE:Europe/Berlin
BEGIN:VEVENT
UID:587@patini.de
DTSTART;TZID=Europe/Berlin:20260626T183000
DTEND;TZID=Europe/Berlin:20260626T183000
DTSTAMP:20251210T194630Z
URL:https://patini.de/veranstaltungen/whisky-bbq-tasting/
SUMMARY:Whisky & BBQ Tasting
DESCRIPTION:Wir lassen ordentlich Rauch aufkommen und kombinieren was zusam
 men gehört: leckeres BBQ aus dem Smoker und rauchiger Whisky!\n\nKommt vo
 rbei und erlebt die perfekte Kombination von feinsten Whiskys und herzhaft
 en BBQ-Spezialitäten!\n\n\nIm Tasting enthalten sind:\n\n 	Begrüßungsdr
 ink\n 	6x 2cl Whisky\n 	2cl Überraschungsverkostung\n 	Leckeres Buffet vo
 m Smoker\n 	Verkostungsmaterial\n 	Geführtes Tasting\n\n\n\n\nGenießen S
 ie einen unvergesslichen Abend und erfahren Sie mehr über die Geschichte 
 und Kunst der Whisky-Herstellung.\n\n\nFür die Teilnahme ist eine vorheri
 ge Buchung notwendig. Die Plätze im Tasting sind beschränkt\, die Reserv
 ierung erfolgt erst nach Zahlungseingang und Reservierungsbestätigung dur
 ch Hinzmanns Genussabend oder Cafe Patini. Mindestalter für Teilnehmer 18
  Jahre.\n\nVorauszahlung erforderlich!\n\nPreis: 85.- Euro / Person   \n
 \n&gt\;&gt\;&gt\; Hier geht´s zur Online-Reservierung! &lt\;&lt\;&lt\; 
 \n\n\n\nKevin Hinzmann - unser Genussabend-Partner!\n\n
ATTACH;FMTTYPE=image/jpeg:https://patini.de/wp-content/uploads/2025/05/whi
 skey-bbq-hinzmann-1200-800.jpg
LOCATION:Café PATINI\, Franz-Liszt-Straße 8\, Waldkraiburg\, 84478\, Deut
 schland
GEO:48.202452;12.41118
X-APPLE-STRUCTURED-LOCATION;VALUE=URI;X-ADDRESS=Franz-Liszt-Straße 8\, Wal
 dkraiburg\, 84478\, Deutschland;X-APPLE-RADIUS=100;X-TITLE=Café PATINI:ge
 o:48.202452,12.41118
END:VEVENT
BEGIN:VTIMEZONE
TZID:Europe/Berlin
X-LIC-LOCATION:Europe/Berlin
BEGIN:DAYLIGHT
DTSTART:20260329T030000
TZOFFSETFROM:+0100
TZOFFSETTO:+0200
TZNAME:CEST
END:DAYLIGHT
END:VTIMEZONE
END:VCALENDAR