BEGIN:VCALENDAR
VERSION:2.0
PRODID:-//wp-events-plugin.com//7.2.3.1//EN
TZID:Europe/Berlin
X-WR-TIMEZONE:Europe/Berlin
BEGIN:VEVENT
UID:571@patini.de
DTSTART;TZID=Europe/Berlin:20260918T190000
DTEND;TZID=Europe/Berlin:20260918T190000
DTSTAMP:20251117T215715Z
URL:https://patini.de/veranstaltungen/pubquiz-no-78/
SUMMARY:PubQuiz No. 78
DESCRIPTION:Gerätselt wird in Teams\, die Fragen sind aus unterschiedliche
 n Kategorien und natürlich gibt´s auch was zu gewinnen.
ATTACH;FMTTYPE=image/jpeg:https://patini.de/wp-content/uploads/2018/11/pat
 ini-events-9-e1699824077974.jpg
LOCATION:Café PATINI\, Franz-Liszt-Straße 8\, Waldkraiburg\, 84478\, Deut
 schland
GEO:48.202452;12.41118
X-APPLE-STRUCTURED-LOCATION;VALUE=URI;X-ADDRESS=Franz-Liszt-Straße 8\, Wal
 dkraiburg\, 84478\, Deutschland;X-APPLE-RADIUS=100;X-TITLE=Café PATINI:ge
 o:48.202452,12.41118
END:VEVENT
BEGIN:VTIMEZONE
TZID:Europe/Berlin
X-LIC-LOCATION:Europe/Berlin
BEGIN:DAYLIGHT
DTSTART:20260329T030000
TZOFFSETFROM:+0100
TZOFFSETTO:+0200
TZNAME:CEST
END:DAYLIGHT
END:VTIMEZONE
END:VCALENDAR