BEGIN:VCALENDAR
VERSION:2.0
PRODID:-//wp-events-plugin.com//7.2.3.1//EN
TZID:Europe/Berlin
X-WR-TIMEZONE:Europe/Berlin
BEGIN:VEVENT
UID:578@patini.de
DTSTART;TZID=Europe/Berlin:20260724T190000
DTEND;TZID=Europe/Berlin:20260724T190000
DTSTAMP:20251130T212452Z
URL:https://patini.de/veranstaltungen/patini-open-stage-7-26/
SUMMARY:PATINI Open Stage
DESCRIPTION:Die PATINI Open Stage!\n\nZeigt uns\, was ihr könnt\, erzählt
  uns Witze\, singt einen coolen Song\, zeigt uns tolle Bilder oder schlech
 te Videos\, performt ein Slam-Poetry\, haut uns ein Gitarren-Solo um die O
 hren\, spielt Eure selbst kreierten Elektro-Songs vor\, was auch immer Euc
 h einfällt und ihr präsentieren wollt ... und wenn Euch gar nichts mehr 
 einfällt\, ... dann halt Karaoke!\n\nNach unserem Open-Stage-Start im Jah
 r 2019 heißt es seit 2025 wieder regelmäßig\, alle 2 Monate: "Licht aus
  - Spot an" im PATINI!\n\nEintritt frei!\n\nAnmeldungen/Reservierungen bit
 te unter info@patini.de.\n\n&nbsp\;\n\n\n\n&nbsp\;
ATTACH;FMTTYPE=image/jpeg:https://patini.de/wp-content/uploads/2025/05/ope
 n-stage-beauty-and-bear-1200-800.png
LOCATION:Café PATINI\, Franz-Liszt-Straße 8\, Waldkraiburg\, 84478\, Deut
 schland
GEO:48.202452;12.41118
X-APPLE-STRUCTURED-LOCATION;VALUE=URI;X-ADDRESS=Franz-Liszt-Straße 8\, Wal
 dkraiburg\, 84478\, Deutschland;X-APPLE-RADIUS=100;X-TITLE=Café PATINI:ge
 o:48.202452,12.41118
END:VEVENT
BEGIN:VTIMEZONE
TZID:Europe/Berlin
X-LIC-LOCATION:Europe/Berlin
BEGIN:DAYLIGHT
DTSTART:20260329T030000
TZOFFSETFROM:+0100
TZOFFSETTO:+0200
TZNAME:CEST
END:DAYLIGHT
END:VTIMEZONE
END:VCALENDAR