BEGIN:VCALENDAR
VERSION:2.0
PRODID:-//wp-events-plugin.com//7.2.3.1//EN
TZID:Europe/Berlin
X-WR-TIMEZONE:Europe/Berlin
BEGIN:VEVENT
UID:598@patini.de
DTSTART;TZID=Europe/Berlin:20260730T183000
DTEND;TZID=Europe/Berlin:20260730T183000
DTSTAMP:20260125T132908Z
URL:https://patini.de/veranstaltungen/gartler-stammtisch-12/
SUMMARY:Gartler-Stammtisch
DESCRIPTION:Der Gartler-Stammtisch im PATINI\n\nEin Stammtisch von und für
  Gartler und natürlich auch für alle\, die Gartler werden wollen - organ
 isiert vom Gartenbauverein Waldkraiburg.\n\nKommt vorbei\, trefft Gleichge
 sinnte\, holt Euch Tipps\, erzählt von Euren Erfahrungen\, usw.\n\nBei Fr
 agen rund um den Gartenbauverein Waldkraiburg könnt Ihr Euch auch gern di
 rekt via E-Mail an info@gartenbauverein-waldkraiburg.de wenden.
ATTACH;FMTTYPE=image/jpeg:https://patini.de/wp-content/uploads/2025/06/gar
 tler-stammtisch.png
LOCATION:Café PATINI\, Franz-Liszt-Straße 8\, Waldkraiburg\, 84478\, Deut
 schland
GEO:48.202452;12.41118
X-APPLE-STRUCTURED-LOCATION;VALUE=URI;X-ADDRESS=Franz-Liszt-Straße 8\, Wal
 dkraiburg\, 84478\, Deutschland;X-APPLE-RADIUS=100;X-TITLE=Café PATINI:ge
 o:48.202452,12.41118
END:VEVENT
BEGIN:VTIMEZONE
TZID:Europe/Berlin
X-LIC-LOCATION:Europe/Berlin
BEGIN:DAYLIGHT
DTSTART:20260329T030000
TZOFFSETFROM:+0100
TZOFFSETTO:+0200
TZNAME:CEST
END:DAYLIGHT
END:VTIMEZONE
END:VCALENDAR