BEGIN:VCALENDAR
VERSION:2.0
PRODID:-//wp-events-plugin.com//7.2.3.1//EN
TZID:Europe/Berlin
X-WR-TIMEZONE:Europe/Berlin
BEGIN:VEVENT
UID:546@patini.de
DTSTART;TZID=Europe/Berlin:20260908T190000
DTEND;TZID=Europe/Berlin:20260908T190000
DTSTAMP:20251117T203609Z
URL:https://patini.de/veranstaltungen/english-stammtisch-40/
SUMMARY:English-Stammtisch
DESCRIPTION:The English Stammtisch at PATINI!\n\nThe somewhat different Sta
 mmtisch ... in English!\nCome along\, meet like-minded people and new acqu
 aintances of the same nationality\, whether native speakers\, English-stru
 ggling students or just to listen and chat.\n\nFrom 08.01.2019 every 2nd T
 uesday of the month!\n\nNo reservation needed ... and we're always happy t
 o see new people! :-)\n\n\n\nDer English-Stammtisch im PATINI!\n\nDer etwa
 s andere Stammtisch ... in English!\nKommt vorbei\, trefft Gleichgesinnte 
 und neue Bekannte gleicher Nation\, ob native speaker\, englisch-geplagte 
 Schüler oder auch nur zum zuhören/mitquatschen.\n\nAb 08.01.2019 jeden 2
 . Dienstag im Monat!\n\nAnmeldung nicht erforderlich ... und wir freuen un
 s immer über neue Teilnehmer! :-)
ATTACH;FMTTYPE=image/jpeg:https://patini.de/wp-content/uploads/2019/02/495
 49299_722460721487941_4610430114155462656_o-e1699822919770.jpg
LOCATION:Café PATINI\, Franz-Liszt-Straße 8\, Waldkraiburg\, 84478\, Deut
 schland
GEO:48.202452;12.41118
X-APPLE-STRUCTURED-LOCATION;VALUE=URI;X-ADDRESS=Franz-Liszt-Straße 8\, Wal
 dkraiburg\, 84478\, Deutschland;X-APPLE-RADIUS=100;X-TITLE=Café PATINI:ge
 o:48.202452,12.41118
END:VEVENT
BEGIN:VTIMEZONE
TZID:Europe/Berlin
X-LIC-LOCATION:Europe/Berlin
BEGIN:DAYLIGHT
DTSTART:20260329T030000
TZOFFSETFROM:+0100
TZOFFSETTO:+0200
TZNAME:CEST
END:DAYLIGHT
END:VTIMEZONE
END:VCALENDAR